BEGIN:VCALENDAR
VERSION:2.0
PRODID:-//Chicano Park Museum - ECPv6.15.20//NONSGML v1.0//EN
CALSCALE:GREGORIAN
METHOD:PUBLISH
X-WR-CALNAME:Chicano Park Museum
X-ORIGINAL-URL:https://chicanoparkmuseum.org
X-WR-CALDESC:Events for Chicano Park Museum
REFRESH-INTERVAL;VALUE=DURATION:PT1H
X-Robots-Tag:noindex
X-PUBLISHED-TTL:PT1H
BEGIN:VTIMEZONE
TZID:America/Los_Angeles
BEGIN:DAYLIGHT
TZOFFSETFROM:-0800
TZOFFSETTO:-0700
TZNAME:PDT
DTSTART:20220313T100000
END:DAYLIGHT
BEGIN:STANDARD
TZOFFSETFROM:-0700
TZOFFSETTO:-0800
TZNAME:PST
DTSTART:20221106T090000
END:STANDARD
BEGIN:DAYLIGHT
TZOFFSETFROM:-0800
TZOFFSETTO:-0700
TZNAME:PDT
DTSTART:20230312T100000
END:DAYLIGHT
BEGIN:STANDARD
TZOFFSETFROM:-0700
TZOFFSETTO:-0800
TZNAME:PST
DTSTART:20231105T090000
END:STANDARD
BEGIN:DAYLIGHT
TZOFFSETFROM:-0800
TZOFFSETTO:-0700
TZNAME:PDT
DTSTART:20240310T100000
END:DAYLIGHT
BEGIN:STANDARD
TZOFFSETFROM:-0700
TZOFFSETTO:-0800
TZNAME:PST
DTSTART:20241103T090000
END:STANDARD
BEGIN:DAYLIGHT
TZOFFSETFROM:-0800
TZOFFSETTO:-0700
TZNAME:PDT
DTSTART:20250309T100000
END:DAYLIGHT
BEGIN:STANDARD
TZOFFSETFROM:-0700
TZOFFSETTO:-0800
TZNAME:PST
DTSTART:20251102T090000
END:STANDARD
BEGIN:DAYLIGHT
TZOFFSETFROM:-0800
TZOFFSETTO:-0700
TZNAME:PDT
DTSTART:20260308T100000
END:DAYLIGHT
BEGIN:STANDARD
TZOFFSETFROM:-0700
TZOFFSETTO:-0800
TZNAME:PST
DTSTART:20261101T090000
END:STANDARD
BEGIN:DAYLIGHT
TZOFFSETFROM:-0800
TZOFFSETTO:-0700
TZNAME:PDT
DTSTART:20270314T100000
END:DAYLIGHT
BEGIN:STANDARD
TZOFFSETFROM:-0700
TZOFFSETTO:-0800
TZNAME:PST
DTSTART:20271107T090000
END:STANDARD
END:VTIMEZONE
BEGIN:VEVENT
DTSTART;TZID=America/Los_Angeles:20260211T180000
DTEND;TZID=America/Los_Angeles:20260211T200000
DTSTAMP:20260419T080723
CREATED:20260205T214933Z
LAST-MODIFIED:20260205T214933Z
UID:8917-1770832800-1770840000@chicanoparkmuseum.org
SUMMARY:Mis Amores - Memory Keeping Workshop
DESCRIPTION:
URL:https://chicanoparkmuseum.org/event/mis-amores-memory-keeping-workshop/
LOCATION:CPMCC\, 1960 National Ave\, San Diego\, CA\, 92113\, United States
END:VEVENT
BEGIN:VEVENT
DTSTART;TZID=America/Los_Angeles:20260207T120000
DTEND;TZID=America/Los_Angeles:20260207T170000
DTSTAMP:20260419T080723
CREATED:20260128T172205Z
LAST-MODIFIED:20260128T172205Z
UID:8888-1770465600-1770483600@chicanoparkmuseum.org
SUMMARY:Love is in the Airbrush
DESCRIPTION:
URL:https://chicanoparkmuseum.org/event/love-is-in-the-airbrush/
LOCATION:CPMCC\, 1960 National Ave\, San Diego\, CA\, 92113\, United States
END:VEVENT
BEGIN:VEVENT
DTSTART;TZID=America/Los_Angeles:20260117T160000
DTEND;TZID=America/Los_Angeles:20260117T190000
DTSTAMP:20260419T080723
CREATED:20260107T235512Z
LAST-MODIFIED:20260107T235512Z
UID:8853-1768665600-1768676400@chicanoparkmuseum.org
SUMMARY:David "Mr. Bizar" Saavedra Opening Reception
DESCRIPTION:
URL:https://chicanoparkmuseum.org/event/david-mr-bizar-saavedra-opening-reception/
LOCATION:CPMCC\, 1960 National Ave\, San Diego\, CA\, 92113\, United States
END:VEVENT
BEGIN:VEVENT
DTSTART;TZID=America/Los_Angeles:20260110T130000
DTEND;TZID=America/Los_Angeles:20260110T160000
DTSTAMP:20260419T080723
CREATED:20260107T235240Z
LAST-MODIFIED:20260107T235240Z
UID:8850-1768050000-1768060800@chicanoparkmuseum.org
SUMMARY:Fragmentos Del Barrio Panel Discussion
DESCRIPTION:
URL:https://chicanoparkmuseum.org/event/fragmentos-del-barrio-panel-discussion/
LOCATION:CPMCC\, 1960 National Ave\, San Diego\, CA\, 92113\, United States
END:VEVENT
BEGIN:VEVENT
DTSTART;TZID=America/Los_Angeles:20251017T170000
DTEND;TZID=America/Los_Angeles:20251017T200000
DTSTAMP:20260419T080723
CREATED:20251014T184007Z
LAST-MODIFIED:20251014T184007Z
UID:8519-1760720400-1760731200@chicanoparkmuseum.org
SUMMARY:CPMCC presents Los Mocochetes
DESCRIPTION: 
URL:https://chicanoparkmuseum.org/event/cpmcc-presents-los-mocochetes/
LOCATION:CPMCC\, 1960 National Ave\, San Diego\, CA\, 92113\, United States
END:VEVENT
BEGIN:VEVENT
DTSTART;TZID=America/Los_Angeles:20251011T150000
DTEND;TZID=America/Los_Angeles:20251011T190000
DTSTAMP:20260419T080723
CREATED:20250905T201106Z
LAST-MODIFIED:20250905T201106Z
UID:8421-1760194800-1760209200@chicanoparkmuseum.org
SUMMARY:3 Year Anniversary Celebration
DESCRIPTION:
URL:https://chicanoparkmuseum.org/event/3-year-anniversary-celebration/
LOCATION:CPMCC\, 1960 National Ave\, San Diego\, CA\, 92113\, United States
END:VEVENT
BEGIN:VEVENT
DTSTART;TZID=America/Los_Angeles:20250913T130000
DTEND;TZID=America/Los_Angeles:20250913T160000
DTSTAMP:20260419T080723
CREATED:20250905T201208Z
LAST-MODIFIED:20250905T201208Z
UID:8423-1757768400-1757779200@chicanoparkmuseum.org
SUMMARY:Chilly Willy's Paint Workshop
DESCRIPTION:
URL:https://chicanoparkmuseum.org/event/chilly-willys-paint-workshop/
LOCATION:CPMCC\, 1960 National Ave\, San Diego\, CA\, 92113\, United States
END:VEVENT
BEGIN:VEVENT
DTSTART;TZID=America/Los_Angeles:20250628T130000
DTEND;TZID=America/Los_Angeles:20250628T160000
DTSTAMP:20260419T080723
CREATED:20250626T195942Z
LAST-MODIFIED:20250626T195942Z
UID:8147-1751115600-1751126400@chicanoparkmuseum.org
SUMMARY:Summer Scholarship Series
DESCRIPTION:Artist Platica & Sharing Our Stories Workshop
URL:https://chicanoparkmuseum.org/event/summer-scholarship-series/
LOCATION:CPMCC\, 1960 National Ave\, San Diego\, CA\, 92113\, United States
END:VEVENT
BEGIN:VEVENT
DTSTART;TZID=America/Los_Angeles:20250607T130000
DTEND;TZID=America/Los_Angeles:20250607T160000
DTSTAMP:20260419T080723
CREATED:20250522T212642Z
LAST-MODIFIED:20250522T212642Z
UID:8021-1749301200-1749312000@chicanoparkmuseum.org
SUMMARY:Letras y Pintura
DESCRIPTION:Letras y Pintura is a living celebration of youth power\, where art becomes resistance\, pride\, and transformation  \nJoin us for the opening reception on Friday\, June 7\, from 1 to 4 PM as we honor the voices and visions of young people who are reclaiming their narratives\, resisting injustice\, and transforming culture through art. \nThis exhibition highlights the courage and brilliance of emerging artists by featuring protest posters from the LMEC student walkout\, graffiti-inspired artwork\, and the youth-designed poster for the 55th Chicano Park Day. \n Remarks from LMEC walkout student leaders and artist spotlight Steven\, and Baby1\n Music by DJ Wicho\nTacos and raspados \nIn collaboration with La Maestra\, LMEC\, and King-Chávez Academy \n  \nLetras y Pintura es una celebración viva del poder juvenil\, donde el arte se convierte en resistencia\, orgullo y transformación  \nAcompáñanos en la recepción de apertura el viernes 7 de junio\, de 1 a 4 PM\, para celebrar las voces y visiones de jóvenes que están reclamando sus narrativas\, resistiendo la injusticia y transformando la cultura a través del arte. \nCon carteles de protesta de la caminata estudiantil de LMEC\, arte inspirado en el grafiti y el cartel juvenil del 55 aniversario del Día del Parque Chicano\, esta muestra destaca el valor y la brillantez de artistas emergentes. \n Palabras de líderes estudiantiles de la caminata de LMEC\, artistas destacados Steven y Baby1\n Música por DJ Wicho\n Tacos y raspados \nEn colaboración con La Maestra\, LMEC y King-Chávez Academy \n \nRSVP! \nhttps://docs.google.com/forms/d/e/1FAIpQLSf6fRjfAD_Z-i7oa9HZhxLjeRVeBNnZuL_VeQm9fIMWPCDLUw/viewform?usp=sharing&ouid=117605571518988560090
URL:https://chicanoparkmuseum.org/event/letras-y-pintura/
LOCATION:CPMCC\, 1960 National Ave\, San Diego\, CA\, 92113\, United States
END:VEVENT
BEGIN:VEVENT
DTSTART;TZID=America/Los_Angeles:20250517T160000
DTEND;TZID=America/Los_Angeles:20250517T190000
DTSTAMP:20260419T080723
CREATED:20250515T160319Z
LAST-MODIFIED:20250515T160745Z
UID:7996-1747497600-1747508400@chicanoparkmuseum.org
SUMMARY:Closing Reception
DESCRIPTION:Chicanismo and the art of resistance: The Legacy of Ricardo Favela and the RCAF \n \nClick on the image to RSVP.
URL:https://chicanoparkmuseum.org/event/closing-reception-2/
LOCATION:CPMCC\, 1960 National Ave\, San Diego\, CA\, 92113\, United States
END:VEVENT
BEGIN:VEVENT
DTSTART;TZID=America/Los_Angeles:20250420T093000
DTEND;TZID=America/Los_Angeles:20250420T170000
DTSTAMP:20260419T080723
CREATED:20250417T231709Z
LAST-MODIFIED:20250417T232231Z
UID:7838-1745141400-1745168400@chicanoparkmuseum.org
SUMMARY:Chicano Park Day
DESCRIPTION:Chicano Park Day is a beautiful commemoration of resilience and community. This year\, the big day will take place on Saturday\, April 19th\, 2025\, and we are excited to be together in community. \nWe will be offering special admission pricing\, exclusive merchandise in our gift shop\, and free goodies! \nNos vemos! \n*Chicano Park Day is planned\, run\, and operated by the Chicano Park Steering Committee. \n \n 
URL:https://chicanoparkmuseum.org/event/chicano-park-day-2/
LOCATION:CPMCC\, 1960 National Ave\, San Diego\, CA\, 92113\, United States
END:VEVENT
BEGIN:VEVENT
DTSTART;TZID=America/Los_Angeles:20250111T130000
DTEND;TZID=America/Los_Angeles:20250111T160000
DTSTAMP:20260419T080723
CREATED:20250109T002452Z
LAST-MODIFIED:20250109T002452Z
UID:6683-1736600400-1736611200@chicanoparkmuseum.org
SUMMARY:Macedonio Arteaga Jr. Opening Reception
DESCRIPTION:
URL:https://chicanoparkmuseum.org/event/macedonio-arteaga-jr-opening-reception/
LOCATION:CPMCC\, 1960 National Ave\, San Diego\, CA\, 92113\, United States
END:VEVENT
BEGIN:VEVENT
DTSTART;TZID=America/Los_Angeles:20241103T120000
DTEND;TZID=America/Los_Angeles:20241103T160000
DTSTAMP:20260419T080723
CREATED:20241023T220540Z
LAST-MODIFIED:20241023T220540Z
UID:6427-1730635200-1730649600@chicanoparkmuseum.org
SUMMARY:Cruising Is Living
DESCRIPTION:A reception commemorating Lowriders and families in honor of Dia de Los Muertos
URL:https://chicanoparkmuseum.org/event/cruising-is-living/
LOCATION:CPMCC\, 1960 National Ave\, San Diego\, CA\, 92113\, United States
END:VEVENT
BEGIN:VEVENT
DTSTART;TZID=America/Los_Angeles:20241026T100000
DTEND;TZID=America/Los_Angeles:20241026T140000
DTSTAMP:20260419T080723
CREATED:20241023T220019Z
LAST-MODIFIED:20241023T220155Z
UID:6423-1729936800-1729951200@chicanoparkmuseum.org
SUMMARY:Dia De Los Muertos - Mini Altar Workshop
DESCRIPTION:Facilitated by Tina Favela\, Artist and Guest Curator Of Chicanismo & the Art of Resistance \n 
URL:https://chicanoparkmuseum.org/event/dia-de-los-muertos-mini-altar-workshop/
LOCATION:CPMCC\, 1960 National Ave\, San Diego\, CA\, 92113\, United States
END:VEVENT
BEGIN:VEVENT
DTSTART;TZID=America/Los_Angeles:20241012T140000
DTEND;TZID=America/Los_Angeles:20241012T180000
DTSTAMP:20260419T080723
CREATED:20241002T162818Z
LAST-MODIFIED:20241002T162917Z
UID:6346-1728741600-1728756000@chicanoparkmuseum.org
SUMMARY:CPMCC 2 Year Anniversary
DESCRIPTION:Celebrate two incredible years of the Chicano Park Museum and Cultural Center! We are thrilled to announce the opening of our latest exhibition\, Chicanismo and the Art of the Resistance: The Legacy of Ricardo Favela and the R.C.A.F \nThis festive event will feature live music by VeraCruz Blues\, Your Neighborhood DJ Wicho\, DJ Rasquache\, DJ Rambo \, and comida by @nanaskitchen_! All are welcome\, this is a family friendly event and we hope to celebrate with you! \nSign up using the following link: https://evite.me/ppajxgHZT2
URL:https://chicanoparkmuseum.org/event/cpmcc-2-year-anniversary/
LOCATION:CPMCC\, 1960 National Ave\, San Diego\, CA\, 92113\, United States
END:VEVENT
BEGIN:VEVENT
DTSTART;TZID=America/Los_Angeles:20240916T120000
DTEND;TZID=America/Los_Angeles:20241018T120000
DTSTAMP:20260419T080723
CREATED:20240914T153204Z
LAST-MODIFIED:20240914T153238Z
UID:6270-1726488000-1729252800@chicanoparkmuseum.org
SUMMARY:Archives Month 2024
DESCRIPTION:Telling Our Stories – Preserving Our Histories: The Chicano Movement in San Diego
URL:https://chicanoparkmuseum.org/event/archives-month-2024/
LOCATION:City Administration Building Lobby\, 202 C Street\, San Diego\, CA\, 92101\, United States
END:VEVENT
BEGIN:VEVENT
DTSTART;TZID=America/Los_Angeles:20240914T130000
DTEND;TZID=America/Los_Angeles:20240914T160000
DTSTAMP:20260419T080723
CREATED:20240911T044216Z
LAST-MODIFIED:20240911T050359Z
UID:6240-1726318800-1726329600@chicanoparkmuseum.org
SUMMARY:Closing Reception
DESCRIPTION:Honor the end of this exhibition with us at the closing reception while we enjoy live music performance by VeraCruz Blues and food by Irene Castruita. Meet the Guest Curators of this exhibit\, engage in thought-provoking conversations that aim to lead to action\, and take one last chance to experience the powerful stories and artwork before the exhibit concludes!\nWe look forward to sharing these memorable moments with you. Thank you for being a part of our comunidad. \nRSVP Here \n \n 
URL:https://chicanoparkmuseum.org/event/closing-reception/
LOCATION:CPMCC\, 1960 National Ave\, San Diego\, CA\, 92113\, United States
END:VEVENT
BEGIN:VEVENT
DTSTART;TZID=America/Los_Angeles:20240911T180000
DTEND;TZID=America/Los_Angeles:20240911T200000
DTSTAMP:20260419T080723
CREATED:20240911T043841Z
LAST-MODIFIED:20240911T050232Z
UID:6238-1726077600-1726084800@chicanoparkmuseum.org
SUMMARY:Film Screening and Meditation
DESCRIPTION:Join us for a thoughtful evening featuring a film screening of La Cosecha: The Story of the Children That Feed America\, a film related to the themes of Their Wall\, Our Canvas\, followed by a Guided Group Meditation session with an intention to transmute grief into collective power. This event offers a unique opportunity to reflect on the exhibition’s impact and engage in a grounding practice. \nRSVP Here \n 
URL:https://chicanoparkmuseum.org/event/film-screening-and-meditation/
LOCATION:CPMCC\, 1960 National Ave\, San Diego\, CA\, 92113\, United States
END:VEVENT
BEGIN:VEVENT
DTSTART;VALUE=DATE:20240808
DTEND;VALUE=DATE:20240811
DTSTAMP:20260419T080723
CREATED:20240729T215432Z
LAST-MODIFIED:20240729T215432Z
UID:6143-1723075200-1723334399@chicanoparkmuseum.org
SUMMARY:Congreso 2024
DESCRIPTION:
URL:https://chicanoparkmuseum.org/event/congreso-2024/
LOCATION:San Diego
END:VEVENT
BEGIN:VEVENT
DTSTART;VALUE=DATE:20240803
DTEND;VALUE=DATE:20240804
DTSTAMP:20260419T080723
CREATED:20240708T185714Z
LAST-MODIFIED:20240708T185714Z
UID:5381-1722643200-1722729599@chicanoparkmuseum.org
SUMMARY:Chicano Duality - Embracing our "in-between-ness"
DESCRIPTION:Educate & Empower: Scholarship Celebration
URL:https://chicanoparkmuseum.org/event/chicano-duality-embracing-our-in-between-ness-4/
LOCATION:CPMCC\, 1960 National Ave\, San Diego\, CA\, 92113\, United States
END:VEVENT
BEGIN:VEVENT
DTSTART;VALUE=DATE:20240727
DTEND;VALUE=DATE:20240728
DTSTAMP:20260419T080723
CREATED:20240708T185601Z
LAST-MODIFIED:20240708T185601Z
UID:5378-1722038400-1722124799@chicanoparkmuseum.org
SUMMARY:Chicano Duality - Embracing our "in-between-ness"
DESCRIPTION:Lowrider y Cultura: “Everything Comes From The Streets” 10 Year Anniversary
URL:https://chicanoparkmuseum.org/event/chicano-duality-embracing-our-in-between-ness-3/
LOCATION:CPMCC\, 1960 National Ave\, San Diego\, CA\, 92113\, United States
END:VEVENT
BEGIN:VEVENT
DTSTART;VALUE=DATE:20240720
DTEND;VALUE=DATE:20240721
DTSTAMP:20260419T080723
CREATED:20240708T185412Z
LAST-MODIFIED:20240708T185412Z
UID:5376-1721433600-1721519999@chicanoparkmuseum.org
SUMMARY:Chicano Duality - Embracing our "in-between-ness"
DESCRIPTION:Mujeres del Moviviento Chican@: Honoring our Story-Keepers
URL:https://chicanoparkmuseum.org/event/chicano-duality-embracing-our-in-between-ness-2/
LOCATION:CPMCC\, 1960 National Ave\, San Diego\, CA\, 92113\, United States
END:VEVENT
BEGIN:VEVENT
DTSTART;TZID=America/Los_Angeles:20240713T110000
DTEND;TZID=America/Los_Angeles:20240713T140000
DTSTAMP:20260419T080723
CREATED:20240708T185025Z
LAST-MODIFIED:20240708T185025Z
UID:5374-1720868400-1720879200@chicanoparkmuseum.org
SUMMARY:Chicano Duality - Embracing our "in-between-ness"
DESCRIPTION:Nepantla: Am I Blue or Am I Green; Book Reading
URL:https://chicanoparkmuseum.org/event/chicano-duality-embracing-our-in-between-ness/
LOCATION:CPMCC\, 1960 National Ave\, San Diego\, CA\, 92113\, United States
END:VEVENT
BEGIN:VEVENT
DTSTART;TZID=America/Los_Angeles:20240504T130000
DTEND;TZID=America/Los_Angeles:20240504T160000
DTSTAMP:20260419T080723
CREATED:20240502T164919Z
LAST-MODIFIED:20240502T164919Z
UID:5116-1714827600-1714838400@chicanoparkmuseum.org
SUMMARY:Their Wall\, Our Canvas/ Su Muro\, Nuestro Mural
DESCRIPTION:
URL:https://chicanoparkmuseum.org/event/their-wall-our-canvas-su-muro-nuestro-mural/
LOCATION:CPMCC\, 1960 National Ave\, San Diego\, CA\, 92113\, United States
END:VEVENT
BEGIN:VEVENT
DTSTART;TZID=America/Los_Angeles:20240420T110000
DTEND;TZID=America/Los_Angeles:20240420T160000
DTSTAMP:20260419T080723
CREATED:20240328T203154Z
LAST-MODIFIED:20240328T203452Z
UID:4921-1713610800-1713628800@chicanoparkmuseum.org
SUMMARY:Son de Allá Son de Acá Closing Celebration
DESCRIPTION:We are excited to invite our community of supporters to the closing celebration for our latest exhibition\, Son de Allá Son de Acá. Join us on April 20\, 2024 from 11am-4pm for an evening of arte\, cultura\, and comunidad as we bid farewell to the beautiful exhibition that has graced our gallery. The Chicano Park Museum and Cultural Center is grateful for the opportunity to collaborate with Guest Curators Rigoberto Luna\, Christian Ramírez\, Vicente Telles\, and Ricardo Islas. \n \n 
URL:https://chicanoparkmuseum.org/event/son-de-alla-son-de-aca-closing-celebration/
LOCATION:CPMCC\, 1960 National Ave\, San Diego\, CA\, 92113\, United States
END:VEVENT
BEGIN:VEVENT
DTSTART;TZID=America/Los_Angeles:20240323T140000
DTEND;TZID=America/Los_Angeles:20240323T160000
DTSTAMP:20260419T080723
CREATED:20240319T020804Z
LAST-MODIFIED:20240319T020913Z
UID:4897-1711202400-1711209600@chicanoparkmuseum.org
SUMMARY:Muralist Commemoration
DESCRIPTION:Juanishi Orosco 1945 – 2023 \nPlease join us in Sacramento on Saturday\, March 23\, 2024 from 2 – 4 pm. \nMore details to come soon. \n \n 
URL:https://chicanoparkmuseum.org/event/muralist-commemoration/
LOCATION:CA
END:VEVENT
BEGIN:VEVENT
DTSTART;TZID=America/Los_Angeles:20240319T100000
DTEND;TZID=America/Los_Angeles:20240319T100000
DTSTAMP:20260419T080723
CREATED:20240319T021057Z
LAST-MODIFIED:20240319T021128Z
UID:4900-1710842400-1710842400@chicanoparkmuseum.org
SUMMARY:Delia Talamantez Recognition
DESCRIPTION:Delia Talamantez\, former founding member of CPMCC Boardmember is being recognized with a Proclamation at City Hall on Tuesday at 10 AM. Parking is available at the Evan V. Jones parkade\, where tickets can be validated https://www.sandiego.gov/locations/evan-v-jones-parkade
URL:https://chicanoparkmuseum.org/event/delia-talamantez-recognition/
LOCATION:CA
END:VEVENT
BEGIN:VEVENT
DTSTART;VALUE=DATE:20231007
DTEND;VALUE=DATE:20231008
DTSTAMP:20260419T080723
CREATED:20230916T152003Z
LAST-MODIFIED:20230916T152003Z
UID:4612-1696636800-1696723199@chicanoparkmuseum.org
SUMMARY:Son de Allá y Son de Acá
DESCRIPTION:
URL:https://chicanoparkmuseum.org/event/son-de-alla-y-son-de-aca/
LOCATION:CPMCC\, 1960 National Ave\, San Diego\, CA\, 92113\, United States
END:VEVENT
BEGIN:VEVENT
DTSTART;TZID=America/Los_Angeles:20230909T150000
DTEND;TZID=America/Los_Angeles:20230909T150000
DTSTAMP:20260419T080723
CREATED:20230826T032830Z
LAST-MODIFIED:20230826T033328Z
UID:4438-1694271600-1694271600@chicanoparkmuseum.org
SUMMARY:PILLARS - Stories of Resilience & Self Determination Closing Celebration
DESCRIPTION:PILLARS – Stories of Resilience & Self Determination Closing Celebration
URL:https://chicanoparkmuseum.org/event/pillars-stories-of-resilience-self-determination-closing-celebration/
LOCATION:CPMCC\, 1960 National Ave\, San Diego\, CA\, 92113\, United States
END:VEVENT
BEGIN:VEVENT
DTSTART;VALUE=DATE:20230707
DTEND;VALUE=DATE:20230807
DTSTAMP:20260419T080723
CREATED:20230714T192301Z
LAST-MODIFIED:20230714T193024Z
UID:4410-1688688000-1691366399@chicanoparkmuseum.org
SUMMARY:Mario Chacon Solo Art Exhibit
DESCRIPTION:Mario Chacon Solo Art Exhibit \nLocal Artists Gallery \nArtist Platica: July 29th  1-3 pm \n 
URL:https://chicanoparkmuseum.org/event/mario-chacon-solo-art-exhibit/
LOCATION:CPMCC\, 1960 National Ave\, San Diego\, CA\, 92113\, United States
END:VEVENT
END:VCALENDAR