BEGIN:VCALENDAR
VERSION:2.0
PRODID:-//Chicano Park Museum - ECPv6.15.20//NONSGML v1.0//EN
CALSCALE:GREGORIAN
METHOD:PUBLISH
X-WR-CALNAME:Chicano Park Museum
X-ORIGINAL-URL:https://chicanoparkmuseum.org
X-WR-CALDESC:Events for Chicano Park Museum
REFRESH-INTERVAL;VALUE=DURATION:PT1H
X-Robots-Tag:noindex
X-PUBLISHED-TTL:PT1H
BEGIN:VTIMEZONE
TZID:America/Los_Angeles
BEGIN:DAYLIGHT
TZOFFSETFROM:-0800
TZOFFSETTO:-0700
TZNAME:PDT
DTSTART:20220313T100000
END:DAYLIGHT
BEGIN:STANDARD
TZOFFSETFROM:-0700
TZOFFSETTO:-0800
TZNAME:PST
DTSTART:20221106T090000
END:STANDARD
BEGIN:DAYLIGHT
TZOFFSETFROM:-0800
TZOFFSETTO:-0700
TZNAME:PDT
DTSTART:20230312T100000
END:DAYLIGHT
BEGIN:STANDARD
TZOFFSETFROM:-0700
TZOFFSETTO:-0800
TZNAME:PST
DTSTART:20231105T090000
END:STANDARD
BEGIN:DAYLIGHT
TZOFFSETFROM:-0800
TZOFFSETTO:-0700
TZNAME:PDT
DTSTART:20240310T100000
END:DAYLIGHT
BEGIN:STANDARD
TZOFFSETFROM:-0700
TZOFFSETTO:-0800
TZNAME:PST
DTSTART:20241103T090000
END:STANDARD
BEGIN:DAYLIGHT
TZOFFSETFROM:-0800
TZOFFSETTO:-0700
TZNAME:PDT
DTSTART:20250309T100000
END:DAYLIGHT
BEGIN:STANDARD
TZOFFSETFROM:-0700
TZOFFSETTO:-0800
TZNAME:PST
DTSTART:20251102T090000
END:STANDARD
END:VTIMEZONE
BEGIN:VEVENT
DTSTART;TZID=America/Los_Angeles:20240319T100000
DTEND;TZID=America/Los_Angeles:20240319T100000
DTSTAMP:20260419T093632
CREATED:20240319T021057Z
LAST-MODIFIED:20240319T021128Z
UID:4900-1710842400-1710842400@chicanoparkmuseum.org
SUMMARY:Delia Talamantez Recognition
DESCRIPTION:Delia Talamantez\, former founding member of CPMCC Boardmember is being recognized with a Proclamation at City Hall on Tuesday at 10 AM. Parking is available at the Evan V. Jones parkade\, where tickets can be validated https://www.sandiego.gov/locations/evan-v-jones-parkade
URL:https://chicanoparkmuseum.org/event/delia-talamantez-recognition/
LOCATION:CA
END:VEVENT
BEGIN:VEVENT
DTSTART;VALUE=DATE:20231007
DTEND;VALUE=DATE:20231008
DTSTAMP:20260419T093632
CREATED:20230916T152003Z
LAST-MODIFIED:20230916T152003Z
UID:4612-1696636800-1696723199@chicanoparkmuseum.org
SUMMARY:Son de Allá y Son de Acá
DESCRIPTION:
URL:https://chicanoparkmuseum.org/event/son-de-alla-y-son-de-aca/
LOCATION:CPMCC\, 1960 National Ave\, San Diego\, CA\, 92113\, United States
END:VEVENT
BEGIN:VEVENT
DTSTART;TZID=America/Los_Angeles:20230909T150000
DTEND;TZID=America/Los_Angeles:20230909T150000
DTSTAMP:20260419T093632
CREATED:20230826T032830Z
LAST-MODIFIED:20230826T033328Z
UID:4438-1694271600-1694271600@chicanoparkmuseum.org
SUMMARY:PILLARS - Stories of Resilience & Self Determination Closing Celebration
DESCRIPTION:PILLARS – Stories of Resilience & Self Determination Closing Celebration
URL:https://chicanoparkmuseum.org/event/pillars-stories-of-resilience-self-determination-closing-celebration/
LOCATION:CPMCC\, 1960 National Ave\, San Diego\, CA\, 92113\, United States
END:VEVENT
BEGIN:VEVENT
DTSTART;VALUE=DATE:20230707
DTEND;VALUE=DATE:20230807
DTSTAMP:20260419T093632
CREATED:20230714T192301Z
LAST-MODIFIED:20230714T193024Z
UID:4410-1688688000-1691366399@chicanoparkmuseum.org
SUMMARY:Mario Chacon Solo Art Exhibit
DESCRIPTION:Mario Chacon Solo Art Exhibit \nLocal Artists Gallery \nArtist Platica: July 29th  1-3 pm \n 
URL:https://chicanoparkmuseum.org/event/mario-chacon-solo-art-exhibit/
LOCATION:CPMCC\, 1960 National Ave\, San Diego\, CA\, 92113\, United States
END:VEVENT
BEGIN:VEVENT
DTSTART;TZID=America/Los_Angeles:20230617T130000
DTEND;TZID=America/Los_Angeles:20230617T130000
DTSTAMP:20260419T093632
CREATED:20230612T163134Z
LAST-MODIFIED:20230612T164039Z
UID:4308-1687006800-1687006800@chicanoparkmuseum.org
SUMMARY:Carmen Linares Kalo Solo Art Exhibit
DESCRIPTION:Artist Platica
URL:https://chicanoparkmuseum.org/event/carmen-linares-kalo-solo-art-exhibit/
LOCATION:CPMCC\, 1960 National Ave\, San Diego\, CA\, 92113\, United States
END:VEVENT
BEGIN:VEVENT
DTSTART;TZID=America/Los_Angeles:20230527T110000
DTEND;TZID=America/Los_Angeles:20230527T140000
DTSTAMP:20260419T093632
CREATED:20230512T163325Z
LAST-MODIFIED:20230512T163958Z
UID:4127-1685185200-1685196000@chicanoparkmuseum.org
SUMMARY:Spring Floral Workshop & Luncheon
DESCRIPTION:
URL:https://chicanoparkmuseum.org/event/spring-floral-workshop-luncheon/
LOCATION:CPMCC\, 1960 National Ave\, San Diego\, CA\, 92113\, United States
END:VEVENT
BEGIN:VEVENT
DTSTART;TZID=America/Los_Angeles:20230521T130000
DTEND;TZID=America/Los_Angeles:20230521T160000
DTSTAMP:20260419T093632
CREATED:20230512T163247Z
LAST-MODIFIED:20230512T163826Z
UID:4124-1684674000-1684684800@chicanoparkmuseum.org
SUMMARY:Hector Villegas Platica & Workshop
DESCRIPTION:
URL:https://chicanoparkmuseum.org/event/hector-villegas-platica-workshop/
LOCATION:CPMCC\, 1960 National Ave\, San Diego\, CA\, 92113\, United States
END:VEVENT
BEGIN:VEVENT
DTSTART;TZID=America/Los_Angeles:20230518T170000
DTEND;TZID=America/Los_Angeles:20230518T183000
DTSTAMP:20260419T093632
CREATED:20230512T163116Z
LAST-MODIFIED:20230512T163900Z
UID:4122-1684429200-1684434600@chicanoparkmuseum.org
SUMMARY:Living Cultures Grant Info Session
DESCRIPTION:
URL:https://chicanoparkmuseum.org/event/living-cultures-grant-info-session/
LOCATION:CPMCC\, 1960 National Ave\, San Diego\, CA\, 92113\, United States
END:VEVENT
BEGIN:VEVENT
DTSTART;TZID=America/Los_Angeles:20230422T100000
DTEND;TZID=America/Los_Angeles:20230422T170000
DTSTAMP:20260419T093632
CREATED:20230327T201910Z
LAST-MODIFIED:20230327T202412Z
UID:3531-1682157600-1682182800@chicanoparkmuseum.org
SUMMARY:Chicano Park Day
DESCRIPTION:
URL:https://chicanoparkmuseum.org/event/chicano-park-day/
LOCATION:CPMCC\, 1960 National Ave\, San Diego\, CA\, 92113\, United States
END:VEVENT
BEGIN:VEVENT
DTSTART;VALUE=DATE:20230317
DTEND;VALUE=DATE:20230410
DTSTAMP:20260419T093632
CREATED:20230313T184558Z
LAST-MODIFIED:20230313T184558Z
UID:2748-1679011200-1681084799@chicanoparkmuseum.org
SUMMARY:"Artistas Platicas" Series
DESCRIPTION:
URL:https://chicanoparkmuseum.org/event/artistas-platicas-series/
LOCATION:CPMCC\, 1960 National Ave\, San Diego\, CA\, 92113\, United States
END:VEVENT
BEGIN:VEVENT
DTSTART;TZID=America/Los_Angeles:20230226T110000
DTEND;TZID=America/Los_Angeles:20230226T170000
DTSTAMP:20260419T093632
CREATED:20230214T005715Z
LAST-MODIFIED:20230214T005715Z
UID:2501-1677409200-1677430800@chicanoparkmuseum.org
SUMMARY:Chicano Park Museum and Cultural Center Hours
DESCRIPTION:
URL:https://chicanoparkmuseum.org/event/chicano-park-museum-and-cultural-center-hours-5/
LOCATION:CPMCC\, 1960 National Ave\, San Diego\, CA\, 92113\, United States
END:VEVENT
BEGIN:VEVENT
DTSTART;TZID=America/Los_Angeles:20230225T110000
DTEND;TZID=America/Los_Angeles:20230225T170000
DTSTAMP:20260419T093632
CREATED:20230214T005646Z
LAST-MODIFIED:20230214T005646Z
UID:2499-1677322800-1677344400@chicanoparkmuseum.org
SUMMARY:Chicano Park Museum and Cultural Center Hours
DESCRIPTION:
URL:https://chicanoparkmuseum.org/event/chicano-park-museum-and-cultural-center-hours-4/
LOCATION:CPMCC\, 1960 National Ave\, San Diego\, CA\, 92113\, United States
END:VEVENT
BEGIN:VEVENT
DTSTART;TZID=America/Los_Angeles:20230224T110000
DTEND;TZID=America/Los_Angeles:20230224T170000
DTSTAMP:20260419T093632
CREATED:20230214T005610Z
LAST-MODIFIED:20230214T005610Z
UID:2497-1677236400-1677258000@chicanoparkmuseum.org
SUMMARY:Chicano Park Museum and Cultural Center Hours
DESCRIPTION:
URL:https://chicanoparkmuseum.org/event/chicano-park-museum-and-cultural-center-hours-3/
LOCATION:CPMCC\, 1960 National Ave\, San Diego\, CA\, 92113\, United States
END:VEVENT
BEGIN:VEVENT
DTSTART;TZID=America/Los_Angeles:20230219T110000
DTEND;TZID=America/Los_Angeles:20230219T170000
DTSTAMP:20260419T093632
CREATED:20230214T005450Z
LAST-MODIFIED:20230214T010025Z
UID:2495-1676804400-1676826000@chicanoparkmuseum.org
SUMMARY:Chicano Park Museum and Cultural Center Hours
DESCRIPTION:
URL:https://chicanoparkmuseum.org/event/chicano-park-museum-and-cultural-center-hours-2/
LOCATION:CPMCC\, 1960 National Ave\, San Diego\, CA\, 92113\, United States
END:VEVENT
BEGIN:VEVENT
DTSTART;TZID=America/Los_Angeles:20230218T110000
DTEND;TZID=America/Los_Angeles:20230218T170000
DTSTAMP:20260419T093632
CREATED:20230214T005137Z
LAST-MODIFIED:20230214T005137Z
UID:2493-1676718000-1676739600@chicanoparkmuseum.org
SUMMARY:Chicano Park Museum and Cultural Center Hours
DESCRIPTION:
URL:https://chicanoparkmuseum.org/event/chicano-park-museum-and-cultural-center-hours/
LOCATION:CPMCC\, 1960 National Ave\, San Diego\, CA\, 92113\, United States
END:VEVENT
BEGIN:VEVENT
DTSTART;TZID=America/Los_Angeles:20230211T100000
DTEND;TZID=America/Los_Angeles:20230211T113000
DTSTAMP:20260419T093632
CREATED:20230208T205653Z
LAST-MODIFIED:20230208T225631Z
UID:2466-1676109600-1676115000@chicanoparkmuseum.org
SUMMARY:CPMCC Tour
DESCRIPTION:
URL:https://chicanoparkmuseum.org/event/cpmcc-tour/
LOCATION:CPMCC\, 1960 National Ave\, San Diego\, CA\, 92113\, United States
END:VEVENT
BEGIN:VEVENT
DTSTART;TZID=America/Los_Angeles:20230210T110000
DTEND;TZID=America/Los_Angeles:20230210T170000
DTSTAMP:20260419T093632
CREATED:20230209T165217Z
LAST-MODIFIED:20230209T165217Z
UID:2476-1676026800-1676048400@chicanoparkmuseum.org
SUMMARY:Museum Hours
DESCRIPTION:
URL:https://chicanoparkmuseum.org/event/museum-hours/
LOCATION:CPMCC\, 1960 National Ave\, San Diego\, CA\, 92113\, United States
END:VEVENT
BEGIN:VEVENT
DTSTART;TZID=America/Los_Angeles:20230209T140000
DTEND;TZID=America/Los_Angeles:20230209T150000
DTSTAMP:20260419T093632
CREATED:20230208T192125Z
LAST-MODIFIED:20230208T192125Z
UID:2449-1675951200-1675954800@chicanoparkmuseum.org
SUMMARY:CPMCC Website Walkthrough
DESCRIPTION:
URL:https://chicanoparkmuseum.org/event/cpmcc-website-walkthrough/
LOCATION:CPMCC\, 1960 National Ave\, San Diego\, CA\, 92113\, United States
END:VEVENT
BEGIN:VEVENT
DTSTART;TZID=America/Los_Angeles:20230204T140000
DTEND;TZID=America/Los_Angeles:20230204T170000
DTSTAMP:20260419T093632
CREATED:20230208T194737Z
LAST-MODIFIED:20230208T194737Z
UID:2463-1675519200-1675530000@chicanoparkmuseum.org
SUMMARY:People Of The Pillars
DESCRIPTION:
URL:https://chicanoparkmuseum.org/event/people-of-the-pillars/
LOCATION:CPMCC\, 1960 National Ave\, San Diego\, CA\, 92113\, United States
END:VEVENT
END:VCALENDAR